BEGIN:VCALENDAR
VERSION:2.0
PRODID:-//Doctors Care - ECPv6.15.20//NONSGML v1.0//EN
CALSCALE:GREGORIAN
METHOD:PUBLISH
X-ORIGINAL-URL:https://doctorscare.org
X-WR-CALDESC:Events for Doctors Care
REFRESH-INTERVAL;VALUE=DURATION:PT1H
X-Robots-Tag:noindex
X-PUBLISHED-TTL:PT1H
BEGIN:VTIMEZONE
TZID:America/Denver
BEGIN:DAYLIGHT
TZOFFSETFROM:-0700
TZOFFSETTO:-0600
TZNAME:MDT
DTSTART:20240310T090000
END:DAYLIGHT
BEGIN:STANDARD
TZOFFSETFROM:-0600
TZOFFSETTO:-0700
TZNAME:MST
DTSTART:20241103T080000
END:STANDARD
BEGIN:DAYLIGHT
TZOFFSETFROM:-0700
TZOFFSETTO:-0600
TZNAME:MDT
DTSTART:20250309T090000
END:DAYLIGHT
BEGIN:STANDARD
TZOFFSETFROM:-0600
TZOFFSETTO:-0700
TZNAME:MST
DTSTART:20251102T080000
END:STANDARD
BEGIN:DAYLIGHT
TZOFFSETFROM:-0700
TZOFFSETTO:-0600
TZNAME:MDT
DTSTART:20260308T090000
END:DAYLIGHT
BEGIN:STANDARD
TZOFFSETFROM:-0600
TZOFFSETTO:-0700
TZNAME:MST
DTSTART:20261101T080000
END:STANDARD
END:VTIMEZONE
BEGIN:VEVENT
DTSTART;TZID=America/Denver:20250902T083000
DTEND;TZID=America/Denver:20250902T120000
DTSTAMP:20260421T073134
CREATED:20250603T220930Z
LAST-MODIFIED:20250603T220930Z
UID:4803-1756801800-1756814400@doctorscare.org
SUMMARY:Health Coverage Assistance
DESCRIPTION:Doctors Care’s Certified Health Coverage Guides will be available for assistance at the MANNA Resource Center in Highlands Ranch on Tuesday\, September 2\, 2025. You can get assistance right at the event or book a free appointment with a Health Coverage Guide at a later date.
URL:https://doctorscare.org/event/health-coverage-assistance-39/
LOCATION:MANNA Resource Center\, 3900 Grace Boulevard\, Highlands Ranch\, CO\, 80126\, United States
ATTACH;FMTTYPE=image/jpeg:https://doctorscare.org/wp-content/uploads/2025/01/Health-Coverage-Assistance.jpg
END:VEVENT
BEGIN:VEVENT
DTSTART;TZID=America/Denver:20250902T120000
DTEND;TZID=America/Denver:20250902T150000
DTSTAMP:20260421T073134
CREATED:20250603T220535Z
LAST-MODIFIED:20250603T220535Z
UID:4794-1756814400-1756825200@doctorscare.org
SUMMARY:Health Coverage Assistance
DESCRIPTION:Doctors Care’s Certified Health Coverage Guides will be available for assistance at the Life Center’s Food Pantry in Littleton on Tuesday\, September 2\, 2025. You can get assistance right at the event or book a free appointment with a Health Coverage Guide at a later date.
URL:https://doctorscare.org/event/health-coverage-assistance-36/
LOCATION:Life Center Littleton\, 5804 South Datura Street\, Littleton\, CO\, 80120\, United States
ATTACH;FMTTYPE=image/jpeg:https://doctorscare.org/wp-content/uploads/2025/01/Health-Coverage-Assistance.jpg
END:VEVENT
BEGIN:VEVENT
DTSTART;TZID=America/Denver:20250908T090000
DTEND;TZID=America/Denver:20250908T110000
DTSTAMP:20260421T073134
CREATED:20250110T175513Z
LAST-MODIFIED:20250110T175513Z
UID:4306-1757322000-1757329200@doctorscare.org
SUMMARY:Health Coverage Assistance
DESCRIPTION:Doctors Care’s Certified Health Coverage Guides will be available for assistance at the Life Center in Littleton on Monday\, September 8\, 2025. You can get assistance right at the event or book a free appointment with a Health Coverage Guide at a later date.
URL:https://doctorscare.org/event/health-coverage-assistance-19/
LOCATION:Life Center Littleton\, 5804 South Datura Street\, Littleton\, CO\, 80120\, United States
ATTACH;FMTTYPE=image/jpeg:https://doctorscare.org/wp-content/uploads/2025/01/Health-Coverage-Assistance.jpg
END:VEVENT
BEGIN:VEVENT
DTSTART;TZID=America/Denver:20250922T090000
DTEND;TZID=America/Denver:20250922T110000
DTSTAMP:20260421T073134
CREATED:20250110T175620Z
LAST-MODIFIED:20250110T175620Z
UID:4309-1758531600-1758538800@doctorscare.org
SUMMARY:Health Coverage Assistance
DESCRIPTION:Doctors Care’s Certified Health Coverage Guides will be available for assistance at the Life Center in Littleton on Monday\, September 22\, 2025. You can get assistance right at the event or book a free appointment with a Health Coverage Guide at a later date.
URL:https://doctorscare.org/event/health-coverage-assistance-20/
LOCATION:Life Center Littleton\, 5804 South Datura Street\, Littleton\, CO\, 80120\, United States
ATTACH;FMTTYPE=image/jpeg:https://doctorscare.org/wp-content/uploads/2025/01/Health-Coverage-Assistance.jpg
END:VEVENT
BEGIN:VEVENT
DTSTART;TZID=America/Denver:20250926T090000
DTEND;TZID=America/Denver:20250926T100000
DTSTAMP:20260421T073134
CREATED:20250110T180300Z
LAST-MODIFIED:20250110T180300Z
UID:4321-1758877200-1758880800@doctorscare.org
SUMMARY:Health Insurance Literacy Class
DESCRIPTION:Doctors Care’s Certified Health Coverage Guides will be hosting a Health Insurance Literacy class at Arapahoe/Douglas Works! on Friday\, September 26\, 2025. You can learn helpful information about maximizing your health insurance benefits.
URL:https://doctorscare.org/event/health-insurance-literacy-class-6/
LOCATION:A/D Works!\, 6974 South Lima Street\, Centennial\, CO\, 80112\, United States
ATTACH;FMTTYPE=image/jpeg:https://doctorscare.org/wp-content/uploads/2024/11/Health-Literacy-Class.jpg
END:VEVENT
BEGIN:VEVENT
DTSTART;TZID=America/Denver:20250927T090000
DTEND;TZID=America/Denver:20250927T150000
DTSTAMP:20260421T073134
CREATED:20250110T175944Z
LAST-MODIFIED:20250110T175944Z
UID:4312-1758963600-1758985200@doctorscare.org
SUMMARY:Health Coverage Assistance
DESCRIPTION:Doctors Care’s Certified Health Coverage Guides will be available for assistance at the City of Sheridan’s “Sheridan Celebrates Farm in the City” event on Saturday\, September 27\, 2025. You can get assistance right at the event or book a free appointment with a Health Coverage Guide at a later date.
URL:https://doctorscare.org/event/health-coverage-assistance-21/
LOCATION:Sheridan City Hall\, 4101 South Federal Blvd.\, Sheridan\, CO\, 80110\, United States
ATTACH;FMTTYPE=image/jpeg:https://doctorscare.org/wp-content/uploads/2025/01/Health-Coverage-Assistance.jpg
END:VEVENT
BEGIN:VEVENT
DTSTART;TZID=America/Denver:20250927T093000
DTEND;TZID=America/Denver:20250927T133000
DTSTAMP:20260421T073134
CREATED:20250603T221115Z
LAST-MODIFIED:20250603T221115Z
UID:4806-1758965400-1758979800@doctorscare.org
SUMMARY:Health Coverage Assistance
DESCRIPTION:Doctors Care’s Certified Health Coverage Guides will be available for assistance at the Littleton Public Schools Community Resource Expo at the East Community Center on Saturday\, September 27\, 2025. You can get assistance right at the event or book a free appointment with a Health Coverage Guide at a later date.
URL:https://doctorscare.org/event/health-coverage-assistance-40/
LOCATION:East Community Center\, 5933 South Fairfield Street\, Littleton\, CO\, 80120\, United States
ATTACH;FMTTYPE=image/jpeg:https://doctorscare.org/wp-content/uploads/2025/01/Health-Coverage-Assistance.jpg
END:VEVENT
END:VCALENDAR