BEGIN:VCALENDAR
VERSION:2.0
PRODID:-//Doctors Care - ECPv6.15.20//NONSGML v1.0//EN
CALSCALE:GREGORIAN
METHOD:PUBLISH
X-ORIGINAL-URL:https://doctorscare.org
X-WR-CALDESC:Events for Doctors Care
REFRESH-INTERVAL;VALUE=DURATION:PT1H
X-Robots-Tag:noindex
X-PUBLISHED-TTL:PT1H
BEGIN:VTIMEZONE
TZID:America/Denver
BEGIN:DAYLIGHT
TZOFFSETFROM:-0700
TZOFFSETTO:-0600
TZNAME:MDT
DTSTART:20230312T090000
END:DAYLIGHT
BEGIN:STANDARD
TZOFFSETFROM:-0600
TZOFFSETTO:-0700
TZNAME:MST
DTSTART:20231105T080000
END:STANDARD
BEGIN:DAYLIGHT
TZOFFSETFROM:-0700
TZOFFSETTO:-0600
TZNAME:MDT
DTSTART:20240310T090000
END:DAYLIGHT
BEGIN:STANDARD
TZOFFSETFROM:-0600
TZOFFSETTO:-0700
TZNAME:MST
DTSTART:20241103T080000
END:STANDARD
BEGIN:DAYLIGHT
TZOFFSETFROM:-0700
TZOFFSETTO:-0600
TZNAME:MDT
DTSTART:20250309T090000
END:DAYLIGHT
BEGIN:STANDARD
TZOFFSETFROM:-0600
TZOFFSETTO:-0700
TZNAME:MST
DTSTART:20251102T080000
END:STANDARD
BEGIN:DAYLIGHT
TZOFFSETFROM:-0700
TZOFFSETTO:-0600
TZNAME:MDT
DTSTART:20260308T090000
END:DAYLIGHT
BEGIN:STANDARD
TZOFFSETFROM:-0600
TZOFFSETTO:-0700
TZNAME:MST
DTSTART:20261101T080000
END:STANDARD
END:VTIMEZONE
BEGIN:VEVENT
DTSTART;VALUE=DATE:20241101
DTEND;VALUE=DATE:20250116
DTSTAMP:20260421T192608
CREATED:20241011T145834Z
LAST-MODIFIED:20241115T212853Z
UID:4032-1730419200-1736985599@doctorscare.org
SUMMARY:Open Enrollment
DESCRIPTION:Navigate life’s twists and turns with health insurance. Open Enrollment is over\, but there are still several opportunities to get covered. Coloradans who experience a Qualifying Life Change Event outside of Open Enrollment (November 1-January 15) have a 60-day window to buy or change plans. \nClick here for more information
URL:https://doctorscare.org/event/open-enrollment-starts/
LOCATION:CO
ATTACH;FMTTYPE=image/png:https://doctorscare.org/wp-content/uploads/2024/10/connect-for-help-Colorado-e1728650118966.png
END:VEVENT
BEGIN:VEVENT
DTSTART;TZID=America/Denver:20250112T093000
DTEND;TZID=America/Denver:20250112T113000
DTSTAMP:20260421T192608
CREATED:20250109T223425Z
LAST-MODIFIED:20250109T223425Z
UID:4239-1736674200-1736681400@doctorscare.org
SUMMARY:Informational Session on Health Insurance Assistance
DESCRIPTION:Doctors Care’s Health Coverage team will be available at First Presbyterian Church Littleton on Sunday\, January 12\, 2025. Our Health Coverage Guides are available to assist with any Open Enrollment assistance you may have. \n 
URL:https://doctorscare.org/event/informational-session-on-health-insurance-assistance/
LOCATION:First Presbyterian Church Littleton\, 1609 W. Littleton Blvd.\, Littleton\, CO\, 80120\, United States
ATTACH;FMTTYPE=image/jpeg:https://doctorscare.org/wp-content/uploads/2024/11/Open-Enrollment-Assistance.jpg
END:VEVENT
BEGIN:VEVENT
DTSTART;TZID=America/Denver:20250114T090000
DTEND;TZID=America/Denver:20250114T110000
DTSTAMP:20260421T192608
CREATED:20250109T223748Z
LAST-MODIFIED:20250109T223748Z
UID:4242-1736845200-1736852400@doctorscare.org
SUMMARY:Health Coverage Assistance
DESCRIPTION:Doctors Care’s Health Coverage team will be available at Sheridan Rising on Tuesday\, January 14\, 2025. Our Health Coverage Guides are available to assist with any Open Enrollment assistance you may have.
URL:https://doctorscare.org/event/health-coverage-assistance/
LOCATION:Sheridan Rising\, 3021 W. Bear Creek Drive\, Englewood\, CO\, 80110\, United States
ATTACH;FMTTYPE=image/jpeg:https://doctorscare.org/wp-content/uploads/2024/11/Open-Enrollment-Assistance.jpg
END:VEVENT
BEGIN:VEVENT
DTSTART;VALUE=DATE:20250115
DTEND;VALUE=DATE:20250116
DTSTAMP:20260421T192608
CREATED:20241010T154101Z
LAST-MODIFIED:20241115T212726Z
UID:4043-1736899200-1736985599@doctorscare.org
SUMMARY:Open Enrollment Deadline for Coverage to begin Feb. 1
DESCRIPTION:You must be enrolled by end of this date to have a health insurance coverage starting February 1\, 2025. This is also the final day of the Open Enrollment period for 2025. \nClick for more information
URL:https://doctorscare.org/event/open-enrollment-deadline-for-coverage-to-begin-feb-1/
LOCATION:CO
ATTACH;FMTTYPE=image/jpeg:https://doctorscare.org/wp-content/uploads/2024/10/open-enrollment.jpg
END:VEVENT
BEGIN:VEVENT
DTSTART;TZID=America/Denver:20250123T093000
DTEND;TZID=America/Denver:20250123T140000
DTSTAMP:20260421T192608
CREATED:20250109T224242Z
LAST-MODIFIED:20250109T224242Z
UID:4245-1737624600-1737640800@doctorscare.org
SUMMARY:Health Coverage Assistance
DESCRIPTION:Doctors Care’s Certified Health Coverage Guides will be available for assistance at the Village Exchange Center’s Resource Fair on Thursday\, January 23\, 2025. You can get assistance right at the event or book a free appointment with a Health Coverage Guide at a later date.
URL:https://doctorscare.org/event/health-coverage-assistance-2/
LOCATION:Village Exchange Center\, 1609 Havana Street\, Aurora\, CO\, 80010\, United States
ATTACH;FMTTYPE=image/jpeg:https://doctorscare.org/wp-content/uploads/2025/01/Health-Coverage-Assistance.jpg
END:VEVENT
BEGIN:VEVENT
DTSTART;TZID=America/Denver:20250124T090000
DTEND;TZID=America/Denver:20250124T100000
DTSTAMP:20260421T192608
CREATED:20250109T224621Z
LAST-MODIFIED:20250109T224621Z
UID:4249-1737709200-1737712800@doctorscare.org
SUMMARY:Health Insurance Literacy Class
DESCRIPTION:Doctors Care’s Certified Health Coverage Guides will be hosting a Health Insurance Literacy class at Arapahoe/Douglas Works! on Friday\, January 24\, 2025. You can learn helpful information about maximizing your health insurance benefits.
URL:https://doctorscare.org/event/health-insurance-literacy-class/
LOCATION:A/D Works!\, 6974 South Lima Street\, Centennial\, CO\, 80112\, United States
ATTACH;FMTTYPE=image/jpeg:https://doctorscare.org/wp-content/uploads/2024/11/Health-Literacy-Class.jpg
END:VEVENT
BEGIN:VEVENT
DTSTART;TZID=America/Denver:20250128T143000
DTEND;TZID=America/Denver:20250128T180000
DTSTAMP:20260421T192608
CREATED:20250109T224846Z
LAST-MODIFIED:20250109T224959Z
UID:4252-1738074600-1738087200@doctorscare.org
SUMMARY:Health Coverage Assistance
DESCRIPTION:Doctors Care’s Certified Health Coverage Guides will be available for assistance at the Community of Care Network’s “Winter Strive to Thrive” event on Tuesday\, January 28\, 2025. You can get assistance right at the event or book a free appointment with a Health Coverage Guide at a later date.
URL:https://doctorscare.org/event/health-coverage-assistance-3/
LOCATION:Calvary Church Castle Rock\, 1100 Caprice Drive\, Castle Rock\, 80109\, United States
ATTACH;FMTTYPE=image/jpeg:https://doctorscare.org/wp-content/uploads/2025/01/Health-Coverage-Assistance.jpg
END:VEVENT
END:VCALENDAR