BEGIN:VCALENDAR
VERSION:2.0
PRODID:-//Doctors Care - ECPv6.15.20//NONSGML v1.0//EN
CALSCALE:GREGORIAN
METHOD:PUBLISH
X-WR-CALNAME:Doctors Care
X-ORIGINAL-URL:https://doctorscare.org
X-WR-CALDESC:Events for Doctors Care
REFRESH-INTERVAL;VALUE=DURATION:PT1H
X-Robots-Tag:noindex
X-PUBLISHED-TTL:PT1H
BEGIN:VTIMEZONE
TZID:America/Denver
BEGIN:DAYLIGHT
TZOFFSETFROM:-0700
TZOFFSETTO:-0600
TZNAME:MDT
DTSTART:20230312T090000
END:DAYLIGHT
BEGIN:STANDARD
TZOFFSETFROM:-0600
TZOFFSETTO:-0700
TZNAME:MST
DTSTART:20231105T080000
END:STANDARD
BEGIN:DAYLIGHT
TZOFFSETFROM:-0700
TZOFFSETTO:-0600
TZNAME:MDT
DTSTART:20240310T090000
END:DAYLIGHT
BEGIN:STANDARD
TZOFFSETFROM:-0600
TZOFFSETTO:-0700
TZNAME:MST
DTSTART:20241103T080000
END:STANDARD
BEGIN:DAYLIGHT
TZOFFSETFROM:-0700
TZOFFSETTO:-0600
TZNAME:MDT
DTSTART:20250309T090000
END:DAYLIGHT
BEGIN:STANDARD
TZOFFSETFROM:-0600
TZOFFSETTO:-0700
TZNAME:MST
DTSTART:20251102T080000
END:STANDARD
BEGIN:DAYLIGHT
TZOFFSETFROM:-0700
TZOFFSETTO:-0600
TZNAME:MDT
DTSTART:20260308T090000
END:DAYLIGHT
BEGIN:STANDARD
TZOFFSETFROM:-0600
TZOFFSETTO:-0700
TZNAME:MST
DTSTART:20261101T080000
END:STANDARD
END:VTIMEZONE
BEGIN:VEVENT
DTSTART;TZID=America/Denver:20241208T130000
DTEND;TZID=America/Denver:20241208T180000
DTSTAMP:20260422T164245
CREATED:20241115T214411Z
LAST-MODIFIED:20241115T214411Z
UID:4143-1733662800-1733680800@doctorscare.org
SUMMARY:Open Enrollment and Coverage Assistance Sign Ups
DESCRIPTION:Doctors Care’s Connection to Coverage team will be available for help at the IronSharp Foundation’s event\, “Lavished with Love.” You can sign up directly with enrollment specialists or schedule a free one-on-one appointment at a later date.
URL:https://doctorscare.org/event/open-enrollment-and-coverage-assistance-sign-ups-3/
LOCATION:Campus Middle School\, 4785 South Dayton Street\, Greenwood Village\, CO\, 80111\, United States
ATTACH;FMTTYPE=image/jpeg:https://doctorscare.org/wp-content/uploads/2024/11/Open-Enrollment-Assistance.jpg
END:VEVENT
BEGIN:VEVENT
DTSTART;TZID=America/Denver:20241123T073000
DTEND;TZID=America/Denver:20241123T120000
DTSTAMP:20260422T164245
CREATED:20241115T214215Z
LAST-MODIFIED:20241115T214215Z
UID:4139-1732347000-1732363200@doctorscare.org
SUMMARY:Open Enrollment and Coverage Assistance Sign Ups
DESCRIPTION:Doctors Care’s Connection to Coverage team will be available for help at the Douglas County Health Department’s “IZ and Community Health at St. Francis Church” event. You can sign up directly with enrollment specialists or schedule a free one-on-one appointment at a later date.
URL:https://doctorscare.org/event/open-enrollment-and-coverage-assistance-sign-ups-2/
LOCATION:St. Francis of Assisi Parish\, 2746 5th Street\, Castle Rock\, CO\, 80104\, United States
ATTACH;FMTTYPE=image/jpeg:https://doctorscare.org/wp-content/uploads/2024/11/Open-Enrollment-Assistance.jpg
END:VEVENT
BEGIN:VEVENT
DTSTART;TZID=America/Denver:20241121T160000
DTEND;TZID=America/Denver:20241121T190000
DTSTAMP:20260422T164245
CREATED:20241115T213915Z
LAST-MODIFIED:20241115T213915Z
UID:4134-1732204800-1732215600@doctorscare.org
SUMMARY:Open Enrollment and Coverage Assistance Sign Ups
DESCRIPTION:Doctors Care’s Connection to Coverage team will be available for help at East Community Center’s “MultiLingual Family Night.” You can sign up directly with enrollment specialists or schedule a free one-on-one appointment at a later date.
URL:https://doctorscare.org/event/open-enrollment-and-coverage-assistance-sign-ups/
LOCATION:East Community Center\, 5933 South Fairfield Street\, Littleton\, CO\, 80120\, United States
ATTACH;FMTTYPE=image/jpeg:https://doctorscare.org/wp-content/uploads/2024/11/Open-Enrollment-Assistance.jpg
END:VEVENT
BEGIN:VEVENT
DTSTART;TZID=America/Denver:20241120T183000
DTEND;TZID=America/Denver:20241120T200000
DTSTAMP:20260422T164245
CREATED:20241115T213351Z
LAST-MODIFIED:20241115T213351Z
UID:4125-1732127400-1732132800@doctorscare.org
SUMMARY:Health Literacy Class
DESCRIPTION:Want to know what health coverage program is the best fit for you? Join us! Doctors Care is holding a health literacy class to answer your questions! There will also be a food pantry on hand hosted by Calvary Church.
URL:https://doctorscare.org/event/health-literacy-class-2/
LOCATION:Calvary Church\, 4881 South Acoma Street\, Englewood\, CO\, 80110\, United States
ATTACH;FMTTYPE=image/jpeg:https://doctorscare.org/wp-content/uploads/2024/11/Health-Literacy-Class.jpg
END:VEVENT
BEGIN:VEVENT
DTSTART;VALUE=DATE:20241101
DTEND;VALUE=DATE:20250116
DTSTAMP:20260422T164245
CREATED:20241011T145834Z
LAST-MODIFIED:20241115T212853Z
UID:4032-1730419200-1736985599@doctorscare.org
SUMMARY:Open Enrollment
DESCRIPTION:Navigate life’s twists and turns with health insurance. Open Enrollment is over\, but there are still several opportunities to get covered. Coloradans who experience a Qualifying Life Change Event outside of Open Enrollment (November 1-January 15) have a 60-day window to buy or change plans. \nClick here for more information
URL:https://doctorscare.org/event/open-enrollment-starts/
LOCATION:CO
ATTACH;FMTTYPE=image/png:https://doctorscare.org/wp-content/uploads/2024/10/connect-for-help-Colorado-e1728650118966.png
END:VEVENT
BEGIN:VEVENT
DTSTART;TZID=America/Denver:20241026T103000
DTEND;TZID=America/Denver:20241026T120000
DTSTAMP:20260422T164245
CREATED:20241011T150355Z
LAST-MODIFIED:20241115T212912Z
UID:4028-1729938600-1729944000@doctorscare.org
SUMMARY:Health Literacy Class
DESCRIPTION:Health Literacy Class from 10:30 AM to 12 PM at Doctors Care or online. \nRegister to attend – Click here for registration
URL:https://doctorscare.org/event/health-literacy-class/
LOCATION:Doctors Care\, 609 W. Littleton Blvd\, Ste 100\, Littleton\, CO\, 80120\, United States
ATTACH;FMTTYPE=image/png:https://doctorscare.org/wp-content/uploads/2024/04/HorizontalLogo_Purple.png
END:VEVENT
BEGIN:VEVENT
DTSTART;TZID=America/Denver:20241012T103000
DTEND;TZID=America/Denver:20241012T120000
DTSTAMP:20260422T164245
CREATED:20241011T150459Z
LAST-MODIFIED:20241115T212941Z
UID:4024-1728729000-1728734400@doctorscare.org
SUMMARY:Health Literacy Class
DESCRIPTION:Health Literacy Class from 10:30 AM to 12 PM at Doctors Care or online. \nRegister to attend – Click here for registration
URL:https://doctorscare.org/event/health-literacy-class-oct-12/
LOCATION:Doctors Care\, 609 W. Littleton Blvd\, Ste 100\, Littleton\, CO\, 80120\, United States
ATTACH;FMTTYPE=image/png:https://doctorscare.org/wp-content/uploads/2024/04/HorizontalLogo_Purple.png
END:VEVENT
END:VCALENDAR