BEGIN:VCALENDAR
VERSION:2.0
PRODID:-//Doctors Care - ECPv6.15.20//NONSGML v1.0//EN
CALSCALE:GREGORIAN
METHOD:PUBLISH
X-ORIGINAL-URL:https://doctorscare.org
X-WR-CALDESC:Events for Doctors Care
REFRESH-INTERVAL;VALUE=DURATION:PT1H
X-Robots-Tag:noindex
X-PUBLISHED-TTL:PT1H
BEGIN:VTIMEZONE
TZID:America/Denver
BEGIN:DAYLIGHT
TZOFFSETFROM:-0700
TZOFFSETTO:-0600
TZNAME:MDT
DTSTART:20240310T090000
END:DAYLIGHT
BEGIN:STANDARD
TZOFFSETFROM:-0600
TZOFFSETTO:-0700
TZNAME:MST
DTSTART:20241103T080000
END:STANDARD
BEGIN:DAYLIGHT
TZOFFSETFROM:-0700
TZOFFSETTO:-0600
TZNAME:MDT
DTSTART:20250309T090000
END:DAYLIGHT
BEGIN:STANDARD
TZOFFSETFROM:-0600
TZOFFSETTO:-0700
TZNAME:MST
DTSTART:20251102T080000
END:STANDARD
BEGIN:DAYLIGHT
TZOFFSETFROM:-0700
TZOFFSETTO:-0600
TZNAME:MDT
DTSTART:20260308T090000
END:DAYLIGHT
BEGIN:STANDARD
TZOFFSETFROM:-0600
TZOFFSETTO:-0700
TZNAME:MST
DTSTART:20261101T080000
END:STANDARD
END:VTIMEZONE
BEGIN:VEVENT
DTSTART;TZID=America/Denver:20250605T180000
DTEND;TZID=America/Denver:20250605T190000
DTSTAMP:20260421T131015
CREATED:20250603T215438Z
LAST-MODIFIED:20250603T215438Z
UID:4782-1749146400-1749150000@doctorscare.org
SUMMARY:Health Insurance Literacy Class
DESCRIPTION:Doctors Care’s Certified Health Coverage Guides will be hosting a Health Insurance Literacy class at the Bemis Public Library in Littleton on Thursday\, June 5th\, 2025. This class is called “Health Insurance 101: Medicaid.” You can learn helpful information about maximizing your Medicaid insurance benefits. You can register for this class by clicking here.
URL:https://doctorscare.org/event/health-insurance-literacy-class-10/
LOCATION:Bemis Public Library\, 6014 South Datura Street\, Littleton\, CO\, 80120\, United States
ATTACH;FMTTYPE=image/jpeg:https://doctorscare.org/wp-content/uploads/2024/11/Health-Literacy-Class.jpg
END:VEVENT
END:VCALENDAR