BEGIN:VCALENDAR
VERSION:2.0
PRODID:-//Doctors Care - ECPv6.15.20//NONSGML v1.0//EN
CALSCALE:GREGORIAN
METHOD:PUBLISH
X-ORIGINAL-URL:https://doctorscare.org
X-WR-CALDESC:Events for Doctors Care
REFRESH-INTERVAL;VALUE=DURATION:PT1H
X-Robots-Tag:noindex
X-PUBLISHED-TTL:PT1H
BEGIN:VTIMEZONE
TZID:America/Denver
BEGIN:DAYLIGHT
TZOFFSETFROM:-0700
TZOFFSETTO:-0600
TZNAME:MDT
DTSTART:20240310T090000
END:DAYLIGHT
BEGIN:STANDARD
TZOFFSETFROM:-0600
TZOFFSETTO:-0700
TZNAME:MST
DTSTART:20241103T080000
END:STANDARD
BEGIN:DAYLIGHT
TZOFFSETFROM:-0700
TZOFFSETTO:-0600
TZNAME:MDT
DTSTART:20250309T090000
END:DAYLIGHT
BEGIN:STANDARD
TZOFFSETFROM:-0600
TZOFFSETTO:-0700
TZNAME:MST
DTSTART:20251102T080000
END:STANDARD
BEGIN:DAYLIGHT
TZOFFSETFROM:-0700
TZOFFSETTO:-0600
TZNAME:MDT
DTSTART:20260308T090000
END:DAYLIGHT
BEGIN:STANDARD
TZOFFSETFROM:-0600
TZOFFSETTO:-0700
TZNAME:MST
DTSTART:20261101T080000
END:STANDARD
END:VTIMEZONE
BEGIN:VEVENT
DTSTART;TZID=America/Denver:20250418T093000
DTEND;TZID=America/Denver:20250418T103000
DTSTAMP:20260421T160214
CREATED:20250318T184755Z
LAST-MODIFIED:20250401T212058Z
UID:4583-1744968600-1744972200@doctorscare.org
SUMMARY:Health Insurance Literacy Class
DESCRIPTION:Doctors Care’s Certified Health Coverage Guides will host a Health Insurance Literacy class at Sheridan Rising on Friday\, April 18\, 2025. This class is meant for members of the Arabic community and translation needs will be provided. You can learn helpful information about maximizing your health insurance benefits. Register for the class here.
URL:https://doctorscare.org/event/health-insurance-literacy-class-3/
LOCATION:Sheridan Rising\, 3021 W. Bear Creek Drive\, Englewood\, CO\, 80110\, United States
ATTACH;FMTTYPE=image/jpeg:https://doctorscare.org/wp-content/uploads/2024/11/Health-Literacy-Class.jpg
END:VEVENT
END:VCALENDAR