BEGIN:VCALENDAR
VERSION:2.0
PRODID:-//Doctors Care - ECPv6.15.20//NONSGML v1.0//EN
CALSCALE:GREGORIAN
METHOD:PUBLISH
X-ORIGINAL-URL:https://doctorscare.org
X-WR-CALDESC:Events for Doctors Care
REFRESH-INTERVAL;VALUE=DURATION:PT1H
X-Robots-Tag:noindex
X-PUBLISHED-TTL:PT1H
BEGIN:VTIMEZONE
TZID:America/Denver
BEGIN:DAYLIGHT
TZOFFSETFROM:-0700
TZOFFSETTO:-0600
TZNAME:MDT
DTSTART:20240310T090000
END:DAYLIGHT
BEGIN:STANDARD
TZOFFSETFROM:-0600
TZOFFSETTO:-0700
TZNAME:MST
DTSTART:20241103T080000
END:STANDARD
BEGIN:DAYLIGHT
TZOFFSETFROM:-0700
TZOFFSETTO:-0600
TZNAME:MDT
DTSTART:20250309T090000
END:DAYLIGHT
BEGIN:STANDARD
TZOFFSETFROM:-0600
TZOFFSETTO:-0700
TZNAME:MST
DTSTART:20251102T080000
END:STANDARD
BEGIN:DAYLIGHT
TZOFFSETFROM:-0700
TZOFFSETTO:-0600
TZNAME:MDT
DTSTART:20260308T090000
END:DAYLIGHT
BEGIN:STANDARD
TZOFFSETFROM:-0600
TZOFFSETTO:-0700
TZNAME:MST
DTSTART:20261101T080000
END:STANDARD
END:VTIMEZONE
BEGIN:VEVENT
DTSTART;TZID=America/Denver:20250222T100000
DTEND;TZID=America/Denver:20250222T140000
DTSTAMP:20260421T192555
CREATED:20250109T234339Z
LAST-MODIFIED:20250109T234339Z
UID:4261-1740218400-1740232800@doctorscare.org
SUMMARY:Health Coverage Assistance
DESCRIPTION:Doctors Care’s Certified Health Coverage Guides will be available for assistance at Julisa Soto’s “Self-Care and Resource Fair Supporting Individuals with Disabilities\, Medicaid\, and Uninsured Communities.” This event will take place on Saturday\, February 22\, 2025. You can get assistance right at the event or book a free appointment with a Health Coverage Guide at a later date.
URL:https://doctorscare.org/event/health-coverage-assistance-5/
LOCATION:Cool Event Center\, 1050 South Sable Blvd.\, Aurora\, CO\, 80012\, United States
ATTACH;FMTTYPE=image/jpeg:https://doctorscare.org/wp-content/uploads/2025/01/Health-Coverage-Assistance.jpg
END:VEVENT
BEGIN:VEVENT
DTSTART;TZID=America/Denver:20250222T110000
DTEND;TZID=America/Denver:20250222T150000
DTSTAMP:20260421T192555
CREATED:20250128T222207Z
LAST-MODIFIED:20250128T222207Z
UID:4362-1740222000-1740236400@doctorscare.org
SUMMARY:Health Coverage Assistance
DESCRIPTION:Doctors Care’s Certified Health Coverage Guides will be available for assistance at “Rock Your Wellness” at The Village Work\, Wellness\, and Event Center. This event will take place on Saturday\, February 22\, 2025. You can get assistance right at the event or book a free appointment with a Health Coverage Guide at a later date.
URL:https://doctorscare.org/event/health-coverage-assistance-25/
LOCATION:The Village Workspace\, 7173 South Havana Street Suite 600\, Centennial\, CO\, 80112\, United States
ATTACH;FMTTYPE=image/jpeg:https://doctorscare.org/wp-content/uploads/2025/01/Health-Coverage-Assistance.jpg
END:VEVENT
END:VCALENDAR